BEGIN:VCALENDAR
VERSION:2.0
PRODID:-//District Grand Lodge of Lebanon - ECPv5.9.0//NONSGML v1.0//EN
CALSCALE:GREGORIAN
METHOD:PUBLISH
X-WR-CALNAME:District Grand Lodge of Lebanon
X-ORIGINAL-URL:https://dgll.org
X-WR-CALDESC:Events for District Grand Lodge of Lebanon
BEGIN:VTIMEZONE
TZID:Europe/Moscow
BEGIN:STANDARD
TZOFFSETFROM:+0300
TZOFFSETTO:+0300
TZNAME:MSK
DTSTART:20200101T000000
END:STANDARD
END:VTIMEZONE
BEGIN:VEVENT
DTSTART;TZID=Europe/Moscow:20201017T190000
DTEND;TZID=Europe/Moscow:20201017T203000
DTSTAMP:20260423T155752
CREATED:20200910T140159Z
LAST-MODIFIED:20200910T140159Z
UID:5614-1602961200-1602966600@dgll.org
SUMMARY:Approaching The Middle Chamber by Jaime Paul Lamb
DESCRIPTION:In this presentation\, Jaime Paul Lamb discusses his latest book\, “Approaching The Middle Chamber: The Seven Liberal Arts in Freemasonry and the Western esoteric tradition”\, in which he minutely analyzes the wealth of hidden knowledge and symbolism contained in the lecture of the Masonic Fellow Craft degree. Lamb provides a detailed historical context for each subject\, while simultaneously offering unprecedented observations from the perspective of the Western Esoteric Tradition. The dizzying scope of this almost impenetrable component of Masonic ritual is deftly handled by Lamb\, as he sequentially tackles subjects such as the operative and speculative dynamic in Masonry and its correlative in the Hermetic Arts\, the qabalistic significance of the Brazen Pillars\, the mythological symbolism underlying the ancient orders of architecture\, the occult application of the five human senses and\, finally\, the esoteric substrata of the seven liberal arts and sciences.
URL:https://dgll.org/event/approaching-the-middle-chamber-by-jaime-paul-lamb/
CATEGORIES:Magnus Geometres
ATTACH;FMTTYPE=image/jpeg:https://dgll.org/wp-content/uploads/2020/09/Middle-chamber.jpg
END:VEVENT
END:VCALENDAR