BEGIN:VCALENDAR
VERSION:2.0
PRODID:-//District Grand Lodge of Lebanon - ECPv5.9.0//NONSGML v1.0//EN
CALSCALE:GREGORIAN
METHOD:PUBLISH
X-WR-CALNAME:District Grand Lodge of Lebanon
X-ORIGINAL-URL:https://dgll.org
X-WR-CALDESC:Events for District Grand Lodge of Lebanon
BEGIN:VTIMEZONE
TZID:Europe/Moscow
BEGIN:STANDARD
TZOFFSETFROM:+0300
TZOFFSETTO:+0300
TZNAME:MSK
DTSTART:20210101T000000
END:STANDARD
END:VTIMEZONE
BEGIN:VEVENT
DTSTART;TZID=Europe/Moscow:20210116T190000
DTEND;TZID=Europe/Moscow:20210116T203000
DTSTAMP:20260423T192404
CREATED:20201128T160917Z
LAST-MODIFIED:20210119T115141Z
UID:5784-1610823600-1610829000@dgll.org
SUMMARY:Atalanta Unveiled - Alchemical emblems and their initiatory content - By Sasha Chaitow
DESCRIPTION:Known as ‘the most prominent alchemical physician in Germany since Paracelsus\,’ Michael Maier (1568-1622) was Royal Physician and Count Palatine to Holy Roman Emperor Rudolf II. A doctor\, diplomat\, and alchemist\, Maier spent much of his life in a poignant\, fruitless quest for the elusive Rosicrucian Brotherhood; visionaries and intellectuals whose Manifestos proclaiming a “universal reformation of mankind” had an immense impact on European culture in the wake of decades of religious warfare.?\nMaier produced a variety of works dedicated to a combination of his interests in healing\, alchemy\, and esoteric philosophy\, including the intricate emblematic works Arcana Arcanissima (1614) and Atalanta fugiens (1617) described as the world’s first multimedia productions\, designed to redeem dualities between man and nature\, matter and the divine.\nIn her recently published book Atalanta Unveiled\, based on her academic research\, Dr Chaitow concludes that Maier designed his emblem books as an initiatory path for esoteric seekers. In this talk\, she summarizes aspects of alchemical history as found in Maier’s work\, presents her findings\, and outlines connections between alchemical and masonic symbolism.
URL:https://dgll.org/event/atalanta-unveiled-alchemical-emblems-and-their-initiatory-content-by-sasha-chaitow/
ATTACH;FMTTYPE=image/jpeg:https://dgll.org/wp-content/uploads/2020/11/127534276_208744904194359_6561432459114339605_o.jpg
END:VEVENT
END:VCALENDAR