BEGIN:VCALENDAR
VERSION:2.0
PRODID:-//District Grand Lodge of Lebanon - ECPv5.9.0//NONSGML v1.0//EN
CALSCALE:GREGORIAN
METHOD:PUBLISH
X-WR-CALNAME:District Grand Lodge of Lebanon
X-ORIGINAL-URL:https://dgll.org
X-WR-CALDESC:Events for District Grand Lodge of Lebanon
BEGIN:VTIMEZONE
TZID:Europe/Moscow
BEGIN:STANDARD
TZOFFSETFROM:+0300
TZOFFSETTO:+0300
TZNAME:MSK
DTSTART:20200101T000000
END:STANDARD
END:VTIMEZONE
BEGIN:VEVENT
DTSTART;TZID=Europe/Moscow:20201127T200000
DTEND;TZID=Europe/Moscow:20201127T220000
DTSTAMP:20260423T154310
CREATED:20201115T174535Z
LAST-MODIFIED:20201115T174535Z
UID:5767-1606507200-1606514400@dgll.org
SUMMARY:The Spiritual Reflections of The Sufi Freemason By Salman S. Sheikh
DESCRIPTION:The spiritual journey and reflections of a seeker who walks the path of Sufism and Freemasonry simultaneously. A seeker whose journey has taken him from the East to the West and from the West to the East in search of answers. What is the purpose of life? Why are we here? and What is the oneness of divinity that both Sufism and Freemasonry teach? How can we use Masonic principles to have more human unity? All these questions will be discovered in the events reflected in this work. The path of the Sufi is to become closer to the beloved (God) with each passing breath. The goal of the Mason is to also get close to the Grand Architect (God) and become better with each passing thought\, action\, and endeavour. We will find the common bond between the two as its two paths and one destination.
URL:https://dgll.org/event/the-spiritual-reflections-of-the-sufi-freemason-by-salman-s-sheikh/
ATTACH;FMTTYPE=image/jpeg:https://dgll.org/wp-content/uploads/2020/11/Spiritual-reflection-of-sufi-freemason.jpg
END:VEVENT
END:VCALENDAR